Package: CGHregions Version: 1.69.0 Command: /home/biocbuild/bbs-3.23-bioc/R/bin/R CMD build --keep-empty-dirs --no-resave-data CGHregions StartedAt: 2025-11-14 16:45:27 -0500 (Fri, 14 Nov 2025) EndedAt: 2025-11-14 16:45:37 -0500 (Fri, 14 Nov 2025) EllapsedTime: 10.0 seconds RetCode: 0 Status: OK PackageFile: CGHregions_1.69.0.tar.gz PackageFileSize: 213.4 KiB