Package: CGHregions Version: 1.69.0 Command: /Library/Frameworks/R.framework/Resources/bin/R CMD build --keep-empty-dirs --no-resave-data CGHregions StartedAt: 2025-11-13 15:55:46 -0500 (Thu, 13 Nov 2025) EndedAt: 2025-11-13 15:55:52 -0500 (Thu, 13 Nov 2025) EllapsedTime: 6.1 seconds RetCode: 0 Status: OK PackageFile: CGHregions_1.69.0.tar.gz PackageFileSize: 213.4 KiB