Package: CGHregions Version: 1.69.0 Command: rm -rf CGHregions.buildbin-libdir && mkdir CGHregions.buildbin-libdir && /Users/biocbuild/BBS/utils/build-universal.sh CGHregions_1.69.0.tar.gz /Library/Frameworks/R.framework/Resources/bin/R CGHregions.buildbin-libdir StartedAt: 2025-11-13 23:31:10 -0500 (Thu, 13 Nov 2025) EndedAt: 2025-11-13 23:31:13 -0500 (Thu, 13 Nov 2025) EllapsedTime: 3.1 seconds RetCode: 0 Status: OK PackageFile: CGHregions_1.69.0.tgz PackageFileSize: 245.4 KiB