Package: CGHregions Version: 1.69.0 Maintainer: Sjoerd Vosse MaintainerEmail: info at vossewebdevelopment.nl git_url: https://git.bioconductor.org/packages/CGHregions git_branch: devel git_last_commit: 84741eb git_last_commit_date: 2025-10-29 10:00:42 -0500 (Wed, 29 Oct 2025)