Package: CGHnormaliter Version: 1.65.0 Command: /home/biocbuild/bbs-3.23-bioc/R/bin/R CMD build --keep-empty-dirs --no-resave-data CGHnormaliter StartedAt: 2025-11-16 16:46:06 -0500 (Sun, 16 Nov 2025) EndedAt: 2025-11-16 16:46:51 -0500 (Sun, 16 Nov 2025) EllapsedTime: 45.0 seconds RetCode: 0 Status: OK PackageFile: CGHnormaliter_1.65.0.tar.gz PackageFileSize: 1.245 MiB