Package: CGHnormaliter Version: 1.65.0 Command: /Library/Frameworks/R.framework/Resources/bin/R CMD INSTALL CGHnormaliter StartedAt: 2025-11-13 15:10:09 -0500 (Thu, 13 Nov 2025) EndedAt: 2025-11-13 15:10:11 -0500 (Thu, 13 Nov 2025) EllapsedTime: 1.8 seconds RetCode: 0 Status: OK