Package: CGHnormaliter Version: 1.65.0 Command: /Library/Frameworks/R.framework/Resources/bin/R CMD build --keep-empty-dirs --no-resave-data CGHnormaliter StartedAt: 2025-11-13 15:55:43 -0500 (Thu, 13 Nov 2025) EndedAt: 2025-11-13 15:56:09 -0500 (Thu, 13 Nov 2025) EllapsedTime: 25.3 seconds RetCode: 0 Status: OK PackageFile: CGHnormaliter_1.65.0.tar.gz PackageFileSize: 1.245 MiB