Package: CGHnormaliter Version: 1.65.0 Command: rm -rf CGHnormaliter.buildbin-libdir && mkdir CGHnormaliter.buildbin-libdir && /Users/biocbuild/BBS/utils/build-universal.sh CGHnormaliter_1.65.0.tar.gz /Library/Frameworks/R.framework/Resources/bin/R CGHnormaliter.buildbin-libdir StartedAt: 2025-11-13 23:31:08 -0500 (Thu, 13 Nov 2025) EndedAt: 2025-11-13 23:31:11 -0500 (Thu, 13 Nov 2025) EllapsedTime: 3.1 seconds RetCode: 0 Status: OK PackageFile: CGHnormaliter_1.65.0.tgz PackageFileSize: 1.267 MiB