Package: CGHnormaliter Version: 1.65.0 Maintainer: Bart P.P. van Houte MaintainerEmail: bvhoute at few.vu.nl git_url: https://git.bioconductor.org/packages/CGHnormaliter git_branch: devel git_last_commit: 1dc052d git_last_commit_date: 2025-10-29 10:03:43 -0500 (Wed, 29 Oct 2025)