Package: CGHcall Version: 2.73.0 Command: /home/biocbuild/bbs-3.23-bioc/R/bin/R CMD build --keep-empty-dirs --no-resave-data CGHcall StartedAt: 2025-11-13 16:44:45 -0500 (Thu, 13 Nov 2025) EndedAt: 2025-11-13 16:45:05 -0500 (Thu, 13 Nov 2025) EllapsedTime: 20.0 seconds RetCode: 0 Status: OK PackageFile: CGHcall_2.73.0.tar.gz PackageFileSize: 451.7 KiB