Package: CGHcall Version: 2.73.0 Maintainer: Mark van de Wiel MaintainerEmail: mark.vdwiel at vumc.nl git_url: https://git.bioconductor.org/packages/CGHcall git_branch: devel git_last_commit: 0cacd10 git_last_commit_date: 2025-10-29 09:59:47 -0500 (Wed, 29 Oct 2025)