Package: CGHbase Version: 1.71.0 Command: /home/biocbuild/bbs-3.23-bioc/R/bin/R CMD INSTALL CGHbase StartedAt: 2025-11-11 15:18:22 -0500 (Tue, 11 Nov 2025) EndedAt: 2025-11-11 15:18:28 -0500 (Tue, 11 Nov 2025) EllapsedTime: 5.6 seconds RetCode: 0 Status: OK