Package: CGHbase Version: 1.71.0 Command: /Library/Frameworks/R.framework/Resources/bin/R CMD build --keep-empty-dirs --no-resave-data CGHbase StartedAt: 2025-11-12 15:57:50 -0500 (Wed, 12 Nov 2025) EndedAt: 2025-11-12 15:57:51 -0500 (Wed, 12 Nov 2025) EllapsedTime: 1.0 seconds RetCode: 0 Status: OK PackageFile: CGHbase_1.71.0.tar.gz PackageFileSize: 848 KiB