Package: CGHbase Version: 1.71.0 Maintainer: Mark van de Wiel MaintainerEmail: mark.vdwiel at vumc.nl git_url: https://git.bioconductor.org/packages/CGHbase git_branch: devel git_last_commit: 709264e git_last_commit_date: 2025-10-29 10:00:38 -0500 (Wed, 29 Oct 2025)