Package: CGEN Version: 3.47.0 Command: /home/biocbuild/bbs-3.23-bioc/R/bin/R CMD INSTALL CGEN StartedAt: 2025-11-14 15:06:03 -0500 (Fri, 14 Nov 2025) EndedAt: 2025-11-14 15:06:39 -0500 (Fri, 14 Nov 2025) EllapsedTime: 35.5 seconds RetCode: 0 Status: OK