Package: CGEN Version: 3.47.0 Command: /Library/Frameworks/R.framework/Resources/bin/R CMD INSTALL CGEN StartedAt: 2025-11-13 15:03:06 -0500 (Thu, 13 Nov 2025) EndedAt: 2025-11-13 15:03:09 -0500 (Thu, 13 Nov 2025) EllapsedTime: 3.1 seconds RetCode: 1 Status: ERROR