Package: CGEN Version: 3.47.0 Maintainer: Justin Lee MaintainerEmail: jhylee at stanford.edu git_url: https://git.bioconductor.org/packages/CGEN git_branch: devel git_last_commit: 1523d57 git_last_commit_date: 2025-10-29 11:08:27 -0500 (Wed, 29 Oct 2025)