Package: CFAssay Version: 1.45.0 Command: /home/biocbuild/bbs-3.23-bioc/R/bin/R CMD build --keep-empty-dirs --no-resave-data CFAssay StartedAt: 2025-11-13 16:44:05 -0500 (Thu, 13 Nov 2025) EndedAt: 2025-11-13 16:44:12 -0500 (Thu, 13 Nov 2025) EllapsedTime: 7.0 seconds RetCode: 0 Status: OK PackageFile: CFAssay_1.45.0.tar.gz PackageFileSize: 322.9 KiB