Package: CFAssay Version: 1.45.0 Command: /Library/Frameworks/R.framework/Resources/bin/R CMD INSTALL CFAssay StartedAt: 2025-11-13 15:01:23 -0500 (Thu, 13 Nov 2025) EndedAt: 2025-11-13 15:01:26 -0500 (Thu, 13 Nov 2025) EllapsedTime: 3.8 seconds RetCode: 0 Status: OK