Package: CFAssay Version: 1.45.0 Command: /Library/Frameworks/R.framework/Resources/bin/R CMD build --keep-empty-dirs --no-resave-data CFAssay StartedAt: 2025-11-13 15:55:28 -0500 (Thu, 13 Nov 2025) EndedAt: 2025-11-13 15:55:33 -0500 (Thu, 13 Nov 2025) EllapsedTime: 5.1 seconds RetCode: 0 Status: OK PackageFile: CFAssay_1.45.0.tar.gz PackageFileSize: 323 KiB