Package: CFAssay Version: 1.45.0 Command: rm -rf CFAssay.buildbin-libdir && mkdir CFAssay.buildbin-libdir && /Users/biocbuild/BBS/utils/build-universal.sh CFAssay_1.45.0.tar.gz /Library/Frameworks/R.framework/Resources/bin/R CFAssay.buildbin-libdir StartedAt: 2025-11-12 20:53:27 -0500 (Wed, 12 Nov 2025) EndedAt: 2025-11-12 20:53:29 -0500 (Wed, 12 Nov 2025) EllapsedTime: 2.0 seconds RetCode: 0 Status: OK PackageFile: CFAssay_1.45.0.tgz PackageFileSize: 400.4 KiB