Package: CFAssay Version: 1.45.0 Maintainer: Herbert Braselmann MaintainerEmail: hbraselmann at online.de git_url: https://git.bioconductor.org/packages/CFAssay git_branch: devel git_last_commit: f9526bc git_last_commit_date: 2025-10-29 10:22:49 -0500 (Wed, 29 Oct 2025)