Package: CEMiTool Version: 1.35.0 Command: /Library/Frameworks/R.framework/Resources/bin/R CMD INSTALL CEMiTool StartedAt: 2025-11-12 15:42:34 -0500 (Wed, 12 Nov 2025) EndedAt: 2025-11-12 15:42:46 -0500 (Wed, 12 Nov 2025) EllapsedTime: 11.5 seconds RetCode: 0 Status: OK