Package: CEMiTool Version: 1.35.0 Command: /Library/Frameworks/R.framework/Resources/bin/R CMD build --keep-empty-dirs --no-resave-data CEMiTool StartedAt: 2025-11-12 15:57:14 -0500 (Wed, 12 Nov 2025) EndedAt: 2025-11-12 15:57:56 -0500 (Wed, 12 Nov 2025) EllapsedTime: 42.5 seconds RetCode: 0 Status: OK PackageFile: CEMiTool_1.35.0.tar.gz PackageFileSize: 5.643 MiB