Package: CEMiTool Version: 1.35.0 Command: rm -rf CEMiTool.buildbin-libdir && mkdir CEMiTool.buildbin-libdir && /Users/biocbuild/BBS/utils/build-universal.sh CEMiTool_1.35.0.tar.gz /Library/Frameworks/R.framework/Resources/bin/R CEMiTool.buildbin-libdir StartedAt: 2025-11-13 23:30:59 -0500 (Thu, 13 Nov 2025) EndedAt: 2025-11-13 23:31:13 -0500 (Thu, 13 Nov 2025) EllapsedTime: 14.3 seconds RetCode: 0 Status: OK PackageFile: CEMiTool_1.35.0.tgz PackageFileSize: 6.154 MiB