Package: CDI Version: 1.9.0 Command: /Library/Frameworks/R.framework/Resources/bin/R CMD INSTALL CDI StartedAt: 2025-11-12 15:25:17 -0500 (Wed, 12 Nov 2025) EndedAt: 2025-11-12 15:25:32 -0500 (Wed, 12 Nov 2025) EllapsedTime: 15.0 seconds RetCode: 0 Status: OK