Package: CDI Version: 1.9.0 Command: rm -rf CDI.buildbin-libdir && mkdir CDI.buildbin-libdir && /Users/biocbuild/BBS/utils/build-universal.sh CDI_1.9.0.tar.gz /Library/Frameworks/R.framework/Resources/bin/R CDI.buildbin-libdir StartedAt: 2025-11-13 23:30:43 -0500 (Thu, 13 Nov 2025) EndedAt: 2025-11-13 23:31:02 -0500 (Thu, 13 Nov 2025) EllapsedTime: 18.5 seconds RetCode: 0 Status: OK PackageFile: CDI_1.9.0.tgz PackageFileSize: 2.118 MiB