Package: CCPlotR Version: 1.9.0 Command: /home/biocbuild/bbs-3.23-bioc/R/bin/R CMD INSTALL CCPlotR StartedAt: 2025-11-13 15:14:38 -0500 (Thu, 13 Nov 2025) EndedAt: 2025-11-13 15:14:50 -0500 (Thu, 13 Nov 2025) EllapsedTime: 12.2 seconds RetCode: 0 Status: OK