Package: CCPlotR Version: 1.9.0 Command: /Library/Frameworks/R.framework/Resources/bin/R CMD INSTALL CCPlotR StartedAt: 2025-11-12 15:23:06 -0500 (Wed, 12 Nov 2025) EndedAt: 2025-11-12 15:23:11 -0500 (Wed, 12 Nov 2025) EllapsedTime: 4.9 seconds RetCode: 0 Status: OK