Package: CCPlotR Version: 1.9.0 Command: /Library/Frameworks/R.framework/Resources/bin/R CMD check --install=check:CCPlotR.install-out.txt --library=/Library/Frameworks/R.framework/Resources/library --no-vignettes --timings CCPlotR_1.9.0.tar.gz StartedAt: 2025-11-25 18:55:21 -0500 (Tue, 25 Nov 2025) EndedAt: 2025-11-25 18:56:09 -0500 (Tue, 25 Nov 2025) EllapsedTime: 48.6 seconds RetCode: 0 Status: OK CheckDir: CCPlotR.Rcheck Warnings: 0