Package: CCPlotR Version: 1.9.0 Command: /Library/Frameworks/R.framework/Resources/bin/R CMD build --keep-empty-dirs --no-resave-data CCPlotR StartedAt: 2025-11-12 15:56:13 -0500 (Wed, 12 Nov 2025) EndedAt: 2025-11-12 15:56:28 -0500 (Wed, 12 Nov 2025) EllapsedTime: 15.2 seconds RetCode: 0 Status: OK PackageFile: CCPlotR_1.9.0.tar.gz PackageFileSize: 4.95 MiB