Package: CCPROMISE Version: 1.37.0 Command: /home/biocbuild/bbs-3.23-bioc/R/bin/R CMD check --install=check:CCPROMISE.install-out.txt --library=/home/biocbuild/bbs-3.23-bioc/R/site-library --timings CCPROMISE_1.37.0.tar.gz StartedAt: 2025-11-18 22:40:10 -0500 (Tue, 18 Nov 2025) EndedAt: 2025-11-18 22:43:05 -0500 (Tue, 18 Nov 2025) EllapsedTime: 175.2 seconds RetCode: 0 Status: WARNINGS CheckDir: CCPROMISE.Rcheck Warnings: 1