Package: CCPROMISE Version: 1.37.0 Command: /Library/Frameworks/R.framework/Resources/bin/R CMD check --install=check:CCPROMISE.install-out.txt --library=/Library/Frameworks/R.framework/Resources/library --no-vignettes --timings CCPROMISE_1.37.0.tar.gz StartedAt: 2025-11-25 18:55:22 -0500 (Tue, 25 Nov 2025) EndedAt: 2025-11-25 18:56:33 -0500 (Tue, 25 Nov 2025) EllapsedTime: 70.9 seconds RetCode: 0 Status: WARNINGS CheckDir: CCPROMISE.Rcheck Warnings: 1