Package: CCPROMISE Version: 1.37.0 Command: /Library/Frameworks/R.framework/Resources/bin/R CMD build --keep-empty-dirs --no-resave-data CCPROMISE StartedAt: 2025-11-12 15:56:17 -0500 (Wed, 12 Nov 2025) EndedAt: 2025-11-12 15:56:32 -0500 (Wed, 12 Nov 2025) EllapsedTime: 15.2 seconds RetCode: 0 Status: OK PackageFile: CCPROMISE_1.37.0.tar.gz PackageFileSize: 1.03 MiB