Package: CCAFE Version: 1.3.0 Command: /home/biocbuild/bbs-3.23-bioc/R/bin/R CMD INSTALL CCAFE StartedAt: 2025-11-13 15:42:49 -0500 (Thu, 13 Nov 2025) EndedAt: 2025-11-13 15:42:52 -0500 (Thu, 13 Nov 2025) EllapsedTime: 3.2 seconds RetCode: 0 Status: OK