Package: CCAFE Version: 1.3.0 Command: /home/biocbuild/bbs-3.23-bioc/R/bin/R CMD build --keep-empty-dirs --no-resave-data CCAFE StartedAt: 2025-11-13 16:38:36 -0500 (Thu, 13 Nov 2025) EndedAt: 2025-11-13 16:39:52 -0500 (Thu, 13 Nov 2025) EllapsedTime: 76.0 seconds RetCode: 0 Status: OK PackageFile: CCAFE_1.3.0.tar.gz PackageFileSize: 5.68 MiB