Package: CCAFE Version: 1.3.0 Command: rm -rf CCAFE.buildbin-libdir && mkdir CCAFE.buildbin-libdir && /Users/biocbuild/BBS/utils/build-universal.sh CCAFE_1.3.0.tar.gz /Library/Frameworks/R.framework/Resources/bin/R CCAFE.buildbin-libdir StartedAt: 2025-11-12 20:53:07 -0500 (Wed, 12 Nov 2025) EndedAt: 2025-11-12 20:53:10 -0500 (Wed, 12 Nov 2025) EllapsedTime: 3.1 seconds RetCode: 0 Status: OK PackageFile: CCAFE_1.3.0.tgz PackageFileSize: 5.701 MiB