Package: CCAFE Version: 1.3.0 Maintainer: Hayley Wolff MaintainerEmail: hayley.wolff at cuanschutz.edu git_url: https://git.bioconductor.org/packages/CCAFE git_branch: devel git_last_commit: 2736f80 git_last_commit_date: 2025-10-29 11:35:24 -0500 (Wed, 29 Oct 2025)