Package: CBNplot Version: 1.11.0 Command: /home/biocbuild/bbs-3.23-bioc/R/bin/R CMD INSTALL CBNplot StartedAt: 2025-11-11 15:53:21 -0500 (Tue, 11 Nov 2025) EndedAt: 2025-11-11 15:53:52 -0500 (Tue, 11 Nov 2025) EllapsedTime: 31.6 seconds RetCode: 0 Status: OK