Package: CBNplot Version: 1.11.0 Command: /home/biocbuild/bbs-3.23-bioc/R/bin/R CMD build --keep-empty-dirs --no-resave-data CBNplot StartedAt: 2025-11-11 16:42:36 -0500 (Tue, 11 Nov 2025) EndedAt: 2025-11-11 16:43:38 -0500 (Tue, 11 Nov 2025) EllapsedTime: 62.0 seconds RetCode: 0 Status: OK PackageFile: CBNplot_1.11.0.tar.gz PackageFileSize: 1.016 MiB