Package: CBNplot Version: 1.11.0 Command: /Library/Frameworks/R.framework/Resources/bin/R CMD INSTALL CBNplot StartedAt: 2025-11-13 15:28:20 -0500 (Thu, 13 Nov 2025) EndedAt: 2025-11-13 15:28:32 -0500 (Thu, 13 Nov 2025) EllapsedTime: 12.1 seconds RetCode: 0 Status: OK