Package: CBNplot Version: 1.11.0 Command: /Library/Frameworks/R.framework/Resources/bin/R CMD check --install=check:CBNplot.install-out.txt --library=/Library/Frameworks/R.framework/Resources/library --no-vignettes --timings CBNplot_1.11.0.tar.gz StartedAt: 2025-11-13 18:56:09 -0500 (Thu, 13 Nov 2025) EndedAt: 2025-11-13 18:58:47 -0500 (Thu, 13 Nov 2025) EllapsedTime: 157.9 seconds RetCode: 0 Status: OK CheckDir: CBNplot.Rcheck Warnings: 0