Package: CBNplot Version: 1.11.0 Command: rm -rf CBNplot.buildbin-libdir && mkdir CBNplot.buildbin-libdir && /Users/biocbuild/BBS/utils/build-universal.sh CBNplot_1.11.0.tar.gz /Library/Frameworks/R.framework/Resources/bin/R CBNplot.buildbin-libdir StartedAt: 2025-11-13 23:30:36 -0500 (Thu, 13 Nov 2025) EndedAt: 2025-11-13 23:30:51 -0500 (Thu, 13 Nov 2025) EllapsedTime: 15.3 seconds RetCode: 0 Status: OK PackageFile: CBNplot_1.11.0.tgz PackageFileSize: 1.187 MiB