Package: CBN2Path Version: 1.1.2 Command: /home/biocbuild/bbs-3.23-bioc/R/bin/R CMD INSTALL CBN2Path StartedAt: 2025-10-29 23:17:37 -0400 (Wed, 29 Oct 2025) EndedAt: 2025-10-29 23:18:17 -0400 (Wed, 29 Oct 2025) EllapsedTime: 39.9 seconds RetCode: 0 Status: OK