Package: CBN2Path Version: 1.1.2 Command: /home/biocbuild/bbs-3.23-bioc/R/bin/R CMD build --keep-empty-dirs --no-resave-data CBN2Path StartedAt: 2025-10-30 00:15:57 -0400 (Thu, 30 Oct 2025) EndedAt: 2025-10-30 00:26:14 -0400 (Thu, 30 Oct 2025) EllapsedTime: 616.5 seconds RetCode: 0 Status: OK PackageFile: CBN2Path_1.1.2.tar.gz PackageFileSize: 2.275 MiB