Package: CATALYST Version: 1.35.0 Command: /home/biocbuild/bbs-3.23-bioc/R/bin/R CMD INSTALL CATALYST StartedAt: 2025-11-13 15:53:54 -0500 (Thu, 13 Nov 2025) EndedAt: 2025-11-13 15:54:32 -0500 (Thu, 13 Nov 2025) EllapsedTime: 37.9 seconds RetCode: 0 Status: OK