Package: CATALYST Version: 1.35.0 Command: /Library/Frameworks/R.framework/Resources/bin/R CMD INSTALL CATALYST StartedAt: 2025-11-13 15:31:23 -0500 (Thu, 13 Nov 2025) EndedAt: 2025-11-13 15:31:38 -0500 (Thu, 13 Nov 2025) EllapsedTime: 15.5 seconds RetCode: 0 Status: OK