Package: CATALYST Version: 1.35.0 Maintainer: Helena L. Crowell MaintainerEmail: helena at crowell.eu git_url: https://git.bioconductor.org/packages/CATALYST git_branch: devel git_last_commit: 2e03f66 git_last_commit_date: 2025-10-29 10:38:04 -0500 (Wed, 29 Oct 2025)