Package: CARDspa Version: 1.3.0 Command: /home/biocbuild/bbs-3.23-bioc/R/bin/R CMD INSTALL CARDspa StartedAt: 2025-11-14 15:34:04 -0500 (Fri, 14 Nov 2025) EndedAt: 2025-11-14 15:35:05 -0500 (Fri, 14 Nov 2025) EllapsedTime: 61.2 seconds RetCode: 0 Status: OK