Package: CARDspa Version: 1.3.0 Command: /home/biocbuild/bbs-3.23-bioc/R/bin/R CMD build --keep-empty-dirs --no-resave-data CARDspa StartedAt: 2025-11-14 16:37:57 -0500 (Fri, 14 Nov 2025) EndedAt: 2025-11-14 16:44:12 -0500 (Fri, 14 Nov 2025) EllapsedTime: 375.3 seconds RetCode: 0 Status: OK PackageFile: CARDspa_1.3.0.tar.gz PackageFileSize: 3.833 MiB